BEGIN:VCALENDAR
VERSION:2.0
PRODID:Events Booking
BEGIN:VEVENT
UID:69ea2a1ea7d77
SUMMARY:【ハイブリッド開催】第29回JMAインサイトスクー
 ル　インフレ時代のマーケティング戦略 ～値上げと顧
 客価値のインサイト～
DESCRIPTION:今回のインサイトスクールは、業績好調な味の
 素AGFにおいてマーケティングを統括する執行役員の伊
 藤英郎氏をお迎えし、
 ・価格ではなく価値で選ばれ
 るために捉えたインサイト
 ・値上げを契機とした価
 値再定義の具体施策
 ・その結果として起きた顧客の
 変化
 について、実践事例をもとに深掘りします。
LOCATION:日本、〒106-0032 東京都港区六本木３丁目５−２７
  六本木山田ビル ９F
DTSTART:20260619T070000Z
DTEND:20260619T080000Z
DTSTAMP:20260423T231806Z
ORGANIZER;CN=公益社団法人日本マーケティング協会:MAILTO:aut
 o@jma-jp.org
GEO:35.664342;139.735447
X-APPLE-STRUCTURED-LOCATION;VALUE=URI;X-ADDRESS=日本、〒106-0032 東京
 都港区六本木３丁目５−２７ 六本木山田ビル ９F;X-APPLE
 -RADIUS=72;X-TITLE=東京本部:35.664342;139.735447
END:VEVENT
END:VCALENDAR