BEGIN:VCALENDAR
VERSION:2.0
PRODID:Events Booking
BEGIN:VEVENT
UID:69e5ea1272a75
SUMMARY:ワールド マーケティング サミット オンライン 202
 1
DESCRIPTION: 
  
  「マーケティングでより良い世界を」
 の理念の下、現代マーケティングの父、フィリップ・
 コトラー氏が発起人となり、世界各国で開催されてき
 たワールド マーケティング サミット（WMS）。
 日本で
 も2014年より毎年東京で開催されてきました。コロナ禍
 の2020年からは、「ワールド マーケティング サミット 
 オンライン（eWMS）」として、世界中のビジネス・プロ
 フェッショナルを対象にオンライン国際会議を開催し
 ました。
 2021年も引き続き、世界最大のマーケティン
 グのオンライン国際会議として、ポストコロナのビジ
 ネスについて世界中の優れた講演を多数用意し、マー
 ケティングの視点から社会的な課題に取り組み、持続
 可能な解決策を見出すべく世界に発信します。
DTSTART:20211106T000000Z
DTEND:20211107T235500Z
DTSTAMP:20210926T233316Z
ORGANIZER;CN=公益社団法人日本マーケティング協会:MAILTO:aut
 o@jma-jp.org
END:VEVENT
END:VCALENDAR