BEGIN:VCALENDAR
VERSION:2.0
PRODID:Events Booking
BEGIN:VEVENT
UID:69e8a7350974c
SUMMARY:【参加無料】“Pandemic”を越えて -新しい社会のは
 じまり-【オンラインセミナー】
DESCRIPTION:世界同時に“共通の敵”を持ち、敵と戦う為の
 環境の中で“新しい価値観”が生まれ、それを乗り越
 えた時”新しい社会”が始まる。 私達は世界の潮流か
 ら“未来を予測”します
DTSTART:20200605T050000Z
DTEND:20200605T070000Z
DTSTAMP:20260422T194717Z
ORGANIZER;CN=公益社団法人日本マーケティング協会:MAILTO:aut
 o@jma-jp.org
END:VEVENT
END:VCALENDAR