BEGIN:VCALENDAR
VERSION:2.0
PRODID:Events Booking
BEGIN:VEVENT
UID:69e5e2ce41777
SUMMARY:【参加無料】マーケティング・ムーブメント
DESCRIPTION:「マーケティング ムーブメント」とは、新し
 いマーケティング手法開発、野心的な挑戦等、を紹介
 し、かつ、JMA会員社同士の絆造りを目指すイベントで
 す。この日は、講演企業5社による渾身のマーケティン
 グ事例をご紹介致します。重要な情報は世界中に散ら
 ばっており、インターネットで入手できる情報は従来
 に比べ飛躍的に増えましたが、当然のごとくそれは本
 来知るべき情報のほんの一部を構成しているに過ぎま
 せん。Face to Faceの熱量を帯びたリアルの場で、各社の
 実際の最新ケース事例、マーケティングに対する多様
 な取り組み、そして考え方を学ぶことで、きっと皆さ
 んのお仕事に役立つ多くの知見を得られることと思い
 ます。ぜひ、各5社の野心的挑戦を体感してください。
 
 参加は無料です。
DTSTART:20180424T060000Z
DTEND:20180424T084000Z
DTSTAMP:20260420T172446Z
ORGANIZER;CN=公益社団法人日本マーケティング協会:MAILTO:aut
 o@jma-jp.org
END:VEVENT
END:VCALENDAR