BEGIN:VCALENDAR
VERSION:2.0
PRODID:Events Booking
BEGIN:VEVENT
UID:69e5ea1e26cba
SUMMARY:情報メディア白書2020セミナー   ＜3/26実施いたし
 ます＞
DESCRIPTION: 
  
  
  
  
 　3月26日実施いたします
 
 〈開催にあたり〉
 令和時代を迎えてなお、メディア
 の劇変状況は続いています。その一方で、これまで以
 上にメディアビジネスの現場は専門分化が進行し、私
 たちは現代の全体性を、ひるがえって自分の立ち位置
 を捉えることがそもそも難しくなっています。生活者
 主導のメディア環境の進化に対応して新しい時代を切
 り開いていくためには、全体像をとらえるための「地
 図」と進む先を示す「コンパス」が必要になります。

  このような課題意識のもと、『情報メディア白書2020』
 （2020年2月20日刊行予定）では「令和時代の情報メディ
 アとオーディエンス」を特集し、いまおさえておくべ
 きメディアにまつわるトピックスを豊富なデータによ
 って整理しています。本セミナーでは白書の内容の一
 部ご紹介と、その他当ラボで進めるさまざまなリサー
 チ結果を発表しつつ、令和時代のメディアの動向をう
 らなう場としていきたいと思います。皆様のご参加を
 お待ちしております。　
  
 講　　師　
 ㈱電通　電
 通ﾒﾃﾞｨｱｲﾉﾍﾞｰｼｮﾝﾗﾎﾞ統括責任者　奥 
 律哉　氏
 ㈱電通　電通ﾒﾃﾞｨｱｲﾉﾍﾞｰｼｮﾝ
 ﾗﾎﾞ　ﾒﾃﾞｨｱｲﾉﾍﾞｰｼｮﾝ研究部 部長  美
 和 晃 氏
 ㈱電通　電通ﾒﾃﾞｨｱｲﾉﾍﾞｰｼｮﾝﾗ
 ﾎﾞ　主任研究員　森下 真理子　氏
 ㈱電通　電通ﾒ
 ﾃﾞｨｱｲﾉﾍﾞｰｼｮﾝﾗﾎﾞ　主任研究員　天野 
 彬　氏
DTSTART:20200326T050000Z
DTEND:20200326T080000Z
DTSTAMP:20260420T175558Z
ORGANIZER;CN=公益社団法人日本マーケティング協会:MAILTO:aut
 o@jma-jp.org
END:VEVENT
END:VCALENDAR