BEGIN:VCALENDAR
VERSION:2.0
PRODID:Events Booking
BEGIN:VEVENT
UID:69eb4109f2a6a
SUMMARY:ゼロから市場を作り上げたマーケティング戦略と
 は ~機能性をマーケティングに活用する重要性~
DESCRIPTION:近年、ヘルスケアに関連する製品が増加してお
 りますが、生活者が本当に欲しいストーリーを描けて
 いるでしょうか。
 もはや市場に様々な商品が溢れ、
 今ある制度の活用のみでは正しく製品の機能を伝える
 ことは難しくなりつつあります。
 そこで、キシリト
 ール製品をゼロから2000億円市場まで創造した藤田氏に
 ご登壇頂き、健康軸の機能性をマーケティングに活用
 した実際の事例とともにお話します。
  
  《 こんな
 方におすすめです！》
 ★機能性製品の成功したマー
 ケティング戦略について知りたい方
 ★健康訴求の効
 果的なプロモーションについて知りたい方
  
LOCATION:日本、〒106-0032 東京都港区六本木３丁目５−２７
  六本木山田ビル ９F
DTSTART:20221212T070000Z
DTEND:20221212T080000Z
DTSTAMP:20211224T004553Z
ORGANIZER;CN=公益社団法人日本マーケティング協会:MAILTO:aut
 o@jma-jp.org
GEO:35.664342;139.735447
X-APPLE-STRUCTURED-LOCATION;VALUE=URI;X-ADDRESS=日本、〒106-0032 東京
 都港区六本木３丁目５−２７ 六本木山田ビル ９F;X-APPLE
 -RADIUS=72;X-TITLE=東京本部:35.664342;139.735447
END:VEVENT
END:VCALENDAR