BEGIN:VCALENDAR
VERSION:2.0
PRODID:Events Booking
BEGIN:VEVENT
UID:69eb2e1558320
SUMMARY:【福島氏登壇！】CX時代の健康・機能性マーケテ
 ィングに求められること
DESCRIPTION:・これからのロイヤリティマーケティングの時
 代に選ばれる製品を目指す戦略
 ・顧客との関係性を
 よりよく、強固なものにし、企業および製品のファン
 づくりを成功させる秘訣
 ・エムスリーが提案する健
 康商品のマーケテティング手法
  
 《 こんな方にお
 すすめです！》
 ★CX時代のマーケティング手法につい
 て知りたい方
 ★健康訴求の効果的なプロモーション
 について知りたい方
LOCATION:日本、〒106-0032 東京都港区六本木３丁目５−２７
  六本木山田ビル ９F
DTSTART:20220905T050000Z
DTEND:20220905T060000Z
DTSTAMP:20211224T004553Z
ORGANIZER;CN=公益社団法人日本マーケティング協会:MAILTO:aut
 o@jma-jp.org
GEO:35.664342;139.735447
X-APPLE-STRUCTURED-LOCATION;VALUE=URI;X-ADDRESS=日本、〒106-0032 東京
 都港区六本木３丁目５−２７ 六本木山田ビル ９F;X-APPLE
 -RADIUS=72;X-TITLE=東京本部:35.664342;139.735447
END:VEVENT
END:VCALENDAR