BEGIN:VCALENDAR
VERSION:2.0
PRODID:Events Booking
BEGIN:VEVENT
UID:69e5d7ac1fcae
SUMMARY:【オンラインセミナー】医師の評価を活用したヘ
 ルスケアプロモーションとは －注目の「ヘルスケア」
 市場で優位に立つためのマーケティング
DESCRIPTION:少子高齢化が進む日本において、今後ますます
 ニーズが高まる「ヘルスケア」市場は注目の市場であ
 り、2030年には37兆円の成長予想がされている。一方で
 、健康に関わる情報はネットを中心に多く出回り、企
 業が発信する際には、いかにして信頼性を担保できる
 かが大きな課題になっている。そこで、医療関連サー
 ビスのエムスリーは、この状況を打開すべく、企業と
 消費者の双方の目線に立った独自サービス \"AskDoctors （
 アスクドクターズ） 評価サービス\"を提供しているAskDo
 ctors評価サービスのプロモーション手法の具体的事例を
 通してご紹介する。
DTSTART:20201028T060000Z
DTEND:20201028T070000Z
DTSTAMP:20260420T163716Z
ORGANIZER;CN=公益社団法人日本マーケティング協会:MAILTO:aut
 o@jma-jp.org
END:VEVENT
END:VCALENDAR