BEGIN:VCALENDAR
VERSION:2.0
PRODID:Events Booking
BEGIN:VEVENT
UID:69e5eaa115a7a
SUMMARY:【招待制】コロナで変化した価値観とライフスタ
 イル　～ニューノーマル時代を価値観マーケティング
 で読み解く～
DESCRIPTION:生活者の思考が多様化した現在、性年代や職業
 などの基本属性だけでは顧客を理解することが難しく
 なっており、価値観から生活者を捉える価値観マーケ
 ティングの重要性は高まってきております。
 さらに
 コロナの影響により生活者のライフスタイル、価値観
 も大きく変化しました。
 これからの生活者の需要を
 捉えていくため、2019年から現在の価値観変動とコロナ
 の変化からみるニューノーマル時代のライフスタイル
 予測をお話しいたします。
DTSTART:20211116T050000Z
DTEND:20211116T063000Z
DTSTAMP:20211012T191115Z
ORGANIZER;CN=公益社団法人日本マーケティング協会:MAILTO:aut
 o@jma-jp.org
END:VEVENT
END:VCALENDAR