BEGIN:VCALENDAR
VERSION:2.0
PRODID:Events Booking
BEGIN:VEVENT
UID:69e894f4876a5
SUMMARY:【オンライン開催】マーケターが知るべき情報セ
 キュリティと経産省セキュリティ評価制度~選ばれる企
 業であり続けるために～
DESCRIPTION:情報セキュリティは、いまや企業の「信頼」や
 「選ばれる理由」に直結します。本セミナーでは、マ
 ーケティング担当者が知っておきたいサイバー攻撃の
 実態と、経済産業省が進めるセキュリティ評価制度（SC
 S）の考え方やポイント、企業が今取り組むべき対策を
 わかりやすく解説します。セキュリティは情報システ
 ム部門だけの課題ではありません。ブランドを守り、
 選ばれ続ける企業であるための第一歩として、ぜひご
 参加ください。
DTSTART:20260520T063000Z
DTEND:20260520T080000Z
DTSTAMP:20211224T004553Z
ORGANIZER;CN=公益社団法人日本マーケティング協会:MAILTO:aut
 o@jma-jp.org
END:VEVENT
END:VCALENDAR