BEGIN:VCALENDAR
VERSION:2.0
PRODID:Events Booking
BEGIN:VEVENT
UID:69e5e69536c9a
SUMMARY:IXチャンネル第2回「あなたは消費者インサイトを
 つかめているのか？」
DESCRIPTION:IX（インサイト・トランスフォーメーション）
 チャンネル第2回＜マーケティングアプリケーションズ
 「MAppsチャンネル」主催　JMA協力＞ 
 【太田恵理子氏(
 キリンホールディングス)　高橋直樹氏(日産自動車) 特
 別対談】
 インサイトとは何か？　どうやったらつか
 むことができるのか？消費者の将来はどうなるのか？
 　それをどのようにビジネスに活かすのか？マーケタ
 ーにとって避けては通れないこの課題に、どう応えれ
 ば良いのでしょうか？　インサイト活用の第一人者の
 プロフェッショナルが特別対談を通じて、この課題を
 解き明かしていきます。 
DTSTART:20211217T070000Z
DTEND:20211217T083000Z
DTSTAMP:20211013T224427Z
ORGANIZER;CN=公益社団法人日本マーケティング協会:MAILTO:aut
 o@jma-jp.org
END:VEVENT
END:VCALENDAR