BEGIN:VCALENDAR
VERSION:2.0
PRODID:Events Booking
BEGIN:VEVENT
UID:69e8a7780742c
SUMMARY:【オンライン開催】JMAインサイトユニバーシティ
 開講記念・特別講座 佐々木康晴氏（電通　執行役員 チ
 ーフ・クリエーティブ・オフィサー（CCO））登壇「今
 年のカンヌはインサイトをどうとらえたか。」■ご招
 待制＜無料＞■ 
DESCRIPTION:
 この度、消費者インサイトに関して総合的に
 学ぶことができる講座　JMAインサイトユニバーシティ
 、第２期生の募集を準備しております。
 それに先立
 ち、JMAインサイトユニバーシティ開講を記念して、特
 別講座（無料事前登録制）を開催します。
 講師は、
 本年 「カンヌライオンズ 国際クリエイティビティ・フ
 ェスティバル（Cannes Lions International Festival of Creativity）
 」 で　Brand Experience &amp\; Activation Lions（ブランド・エク
 スペリエンス＆アクティベーション・ライオンズ）の
 審査委員長をされた。
 佐々木 康晴氏（電通　執行役
 員 チーフ・クリエーティブ・オフィサー（CCO））です
 。
 モデレーターは　JMAインサイトユニバーシティで
 もコーディネートをされる小林 康二氏（日本コカ・コ
 ーラ マーケティング本部 ヒューマン・インサイツ・リ
 ード ）大松 孝弘氏（デコム 代表取締役社長）に　デ
 ィスカッション・進行をしていただきます。 
  
DTSTART:20221110T073000Z
DTEND:20221110T083000Z
DTSTAMP:20260422T194824Z
ORGANIZER;CN=公益社団法人日本マーケティング協会:MAILTO:aut
 o@jma-jp.org
END:VEVENT
END:VCALENDAR