BEGIN:VCALENDAR
VERSION:2.0
PRODID:Events Booking
BEGIN:VEVENT
UID:69e5e70338899
SUMMARY:JMAインサイトスクール 第13回『 [TikTok売れ]の消費
 者インサイトを大解剖 』
DESCRIPTION:『 [TikTok売れ]の消費者インサイトを大解剖 』 
 
 　～いま話題の現象は、なぜ起こったのか？～【ゲス
 ト】 田村 千秋 氏　TikTok For Business Japan　Head of Key Account
 s and Agencies
 西岡 勢奈 氏 ライオン株式会社 ビジネス
 開発センター エクスペリエンスデザイン CXチーム 
 
 【コーディネーター】
 大松孝弘氏　デコム　代表取
 締役社長
  https://tiktok-for-business.co.jp/
DTSTART:20211214T073000Z
DTEND:20211214T083000Z
DTSTAMP:20211118T204002Z
ORGANIZER;CN=公益社団法人日本マーケティング協会:MAILTO:aut
 o@jma-jp.org
END:VEVENT
END:VCALENDAR