BEGIN:VCALENDAR
VERSION:2.0
PRODID:Events Booking
BEGIN:VEVENT
UID:69e5e691d0864
SUMMARY:【参加無料！】テレビCMに変革をもたらすオンラ
 イン運用のはじまり<BR>その現在地と、「アド・オーケ
 ストレーション」の未来を語る
DESCRIPTION:日本でもいよいよ2017年10月からスタートしたテ
 レビCMの「オンライン送稿」。Group IMDは国内初のオンラ
 イン搬入を実現し、その後もIMD CLOUDを通じてオンライ
 ン搬入される広告主様、広告会社様が増えています。3
 月以降、東名阪でオンラインでの素材受け取りが可能
 となりました。数々のお問い合わせも頂いており、こ
 のたびセミナー実施の運びとなりました。更に、注目
 すべき点は『テレビCMの未来』。オンライン運用は、デ
 ジタル化によるCMとSNSとの連携やリアルタイム解析、CM
 のABテスト、インタラクティブ化など、CMのあり方を変
 えてしまう可能性まで秘めています。実際に、Group IMD
 は既に海外で様々な事例を作ってきました。CMの未来を
 指揮する『アド・オーケストレーション』について、Gr
 oup IMDがグローバルでサポートするユニリーバ様と、先
 駆的なブランドをサポートし続けているジェイ・ウォ
 ルター・トンプソン様、そしてGroup IMDのパネルディス
 カッションを、コピーライター/メディアコンサルタン
 トの境治氏（ミライテレビ推進会議・主宰  著『拡張
 するテレビ』 テレビとネットの横断業界誌 Media Border）
 がモデレーターを務め、世界で実際に放映された斬新
 な事例を紐解きながら、今始まる日本のテレビCMの未来
 を語ります。
DTSTART:20180524T060000Z
DTEND:20180524T085000Z
DTSTAMP:20260420T174049Z
ORGANIZER;CN=公益社団法人日本マーケティング協会:MAILTO:aut
 o@jma-jp.org
END:VEVENT
END:VCALENDAR