BEGIN:VCALENDAR
VERSION:2.0
PRODID:Events Booking
BEGIN:VEVENT
UID:69ea1395cea0c
SUMMARY:【オンライン開催／参加費無料】「デジタルシフ
 ト『超』実践講座2024」プレセミナー～どうしてデジタ
 ルマーケティングはわかりにくいのか【8/27締切】
DESCRIPTION:「デジタルシフト 『超』実践講座」の開講に
 先駆けて、当講座のコーディネーターによる講演と座
 談会を行います。参加費は無料です。講座参加をご検
 討の方、デジタルマーケティングにご関心のある方は
 是非ご聴講ください。何かと話題になるデジタルマー
 ケティング。しかし、どこか苦手意識があったり、同
 じデジタル領域なのに隣の部署と話がつうじにくかっ
 たりしていませんか。より深く追求したいポイントと
 、「今さら聞けない」といったポイントが隣り合わせ
 になっているのがデジタルマーケティングの特徴では
 ないでしょうか。そんなデジタルの領域を俯瞰し、改
 めて羅針盤的に捉えることで自分のやるべき事を発見
 し、デジタルの海で溺れない、今押さえておくべきべ
 きことがわかるセミナーとして集中講座を開設します
 。■こんな人におススメ■☞デジタルマーケティング
 の苦手意識を払拭したい方。☞ＡＩ普及の前に改めて
 基本を見直したい方。☞デジタルシフトのツボを押さ
 えておきたい方。※デジタルシフトとは、企業と消費
 者が時間や場所にとらわず、“双方向にコミュニケー
 ションを取れる環境をデジタル技術によって構築する
 ことです。
 【講演】13：00～13：20講師 : 田村 修 氏（
 株式会社５執行役員／ 専修大学・産業能率大学講師）
 【パネルディスカッション】13：20～14：10
 パネリスト
  : 
 ・田村 修  氏  （ 同上）※コーディネーター・
 倉橋 美佳 氏（株式会社ペンシル　代表取締役社長CEO
 ）※コーディネーター/講師・野崎 大輔 氏（株式会社
 ホワイトグラッシーズ　代表取締役CEO）※講師　モデ
 レーター：・小野和美  氏　（九州大学客員教授、株
 式会社ハピネスベイスCEO）
  
 「デジタルシフト 『
 超』実践講座」https://www.jma2-jp.org/event/workshop/hc24all-2
DTSTART:20240902T040000Z
DTEND:20240902T051000Z
DTSTAMP:20260423T214157Z
ORGANIZER;CN=公益社団法人日本マーケティング協会:MAILTO:aut
 o@jma-jp.org
END:VEVENT
END:VCALENDAR