BEGIN:VCALENDAR
VERSION:2.0
PRODID:Events Booking
BEGIN:VEVENT
UID:69ea13a522f94
SUMMARY:【ハイブリッド】ヒューマンキャピタル・マーケ
 ティング研究会DAY1「環境適応力を高める“リ・スキリ
 ング”再考」(単発）
DESCRIPTION:「人財戦略にマーケティング思考を」をテーマ
 に人的資本経営の実現に向けて、人事課題に対応する
 マーケティングセンスを磨くための研修です。いま企
 業が最も向き合わなくてはいけない「リ・スキリング
 」について、専門家によるキーノートと企業担当者よ
 り講演いただきます。参加者同士のディスカッション
 も充実しており、ネットワーキングの機会も提供。 
 
 ■こんな人におススメ■経営層、人事部門、経営企画
 部門、マーケティング部門の人材育成担当者。部署、
 経験年数は不問です。テーマによって社内で受講者を
 変更可能です。
 テーマごとに専門家の基調講演と、
 実践企業の具体的な事例の講演のあと、グループディ
 スカッションの3部構成でじっくり学べます。 
  
LOCATION:日本、〒106-0032 東京都港区六本木３丁目５−２７
  六本木山田ビル ９F
DTSTART:20240826T050000Z
DTEND:20240826T080000Z
DTSTAMP:20211010T173638Z
ORGANIZER;CN=公益社団法人日本マーケティング協会:MAILTO:aut
 o@jma-jp.org
GEO:35.664342;139.735447
X-APPLE-STRUCTURED-LOCATION;VALUE=URI;X-ADDRESS=日本、〒106-0032 東京
 都港区六本木３丁目５−２７ 六本木山田ビル ９F;X-APPLE
 -RADIUS=72;X-TITLE=東京本部:35.664342;139.735447
END:VEVENT
END:VCALENDAR