BEGIN:VCALENDAR
VERSION:2.0
PRODID:Events Booking
BEGIN:VEVENT
UID:69ea13857e27d
SUMMARY:【ハイブリッド】人財戦略にマーケティング思考
 を「ヒューマンキャピタル・マーケティング研究会」
 全５日間
DESCRIPTION:	日本マーケティング協会は「人財戦略にマー
 ケティング思考を」をテーマにヒューマンキャピタル
 ・マーケティング研究会を発足します。5日間の研修を
 通じて人的資本経営の実現に向けた人事課題に対応す
 るマーケティングセンスを磨きます。 講師陣は人と組
 織の研究者とマーケター、マーケティング思考を取り
 入れた人財戦略で成功している企業の担当者。また、
 参加者同士のディスカッションも充実しており、ネッ
 トワーキングの機会も提供。 テーマによって社内で受
 講者の変更も可能です。組織を上げて幅広く学びを深
 めていただきたく、人事部門だけでなく経営に携わる
 部門の方も是非ご参加ください。 
 ■こんな人におス
 スメ■経営層、人事部門、経営企画部門、マーケティ
 ング部門の人材育成担当者。部署、経験年数は不問で
 す。テーマによって社内で受講者を変更可能です。
 
 テーマごとに専門家の基調講演と、実践企業の具体的
 な事例の講演のあと、グループディスカッションの3部
 構成でじっくり学べます。 
  
LOCATION:日本、〒106-0032 東京都港区六本木３丁目５−２７
  六本木山田ビル ９F
DTSTART:20240826T050000Z
DTEND:20241018T080000Z
DTSTAMP:20211010T173638Z
ORGANIZER;CN=公益社団法人日本マーケティング協会:MAILTO:aut
 o@jma-jp.org
GEO:35.664342;139.735447
X-APPLE-STRUCTURED-LOCATION;VALUE=URI;X-ADDRESS=日本、〒106-0032 東京
 都港区六本木３丁目５−２７ 六本木山田ビル ９F;X-APPLE
 -RADIUS=72;X-TITLE=東京本部:35.664342;139.735447
END:VEVENT
END:VCALENDAR