BEGIN:VCALENDAR
VERSION:2.0
PRODID:Events Booking
BEGIN:VEVENT
UID:69e5eaab51c9a
SUMMARY:DX競争を勝ち抜くヒントはここにあり リテール業
 界以外でも導入が進むデジタルコマース
DESCRIPTION:企業の競争優位のためにはDXの推進が必要であ
 り、ニューノーマルを背景にこれらのニーズがより一
 層高まっていることは言うまでもありません。
 製造
 業などの法人営業の現場では足で稼ぐ営業活動が主流
 でしたが、情報提供やサンプル品の依頼～注文～請求
 支払までをオンラインで完結させるなど、営業プロセ
 ス改革の手段としてデジタルコマースを検討するケー
 スが増えています。
 デジタルコマース先駆者である
 リテール業界では、コマースとマーケティングを融合
 させ、オンラインと店舗での顧客体験がシームレスに
 連携するOMO（Online Merges with Offline）の事例が増えていま
 す。
 本セミナーでは、デジタルコマースプロジェク
 トを成功に導いてきた寺田倉庫（元CO-WELL）の村松篤史
 氏をゲストに迎え、最新事例や活用方法、導入・運用
 を成功に導くアプローチを明らかにしていきます。
DTSTART:20211203T050000Z
DTEND:20211203T060000Z
DTSTAMP:20211010T173638Z
ORGANIZER;CN=公益社団法人日本マーケティング協会:MAILTO:aut
 o@jma-jp.org
END:VEVENT
END:VCALENDAR