BEGIN:VCALENDAR
VERSION:2.0
PRODID:Events Booking
BEGIN:VEVENT
UID:69e768f1d71b9
SUMMARY:【オンライン】デジタルシフト・超実践講座DAY1「
 今さら聞けないデジタル広告と最新動向」(単発）
DESCRIPTION:【こちらは「デジタルシフト・超実践講座」の
 中のＡ「今さら聞けないデジタル広告と最新動向」単
 発のお申込み画面です！】
  講座１ デジタル広告の
 最新動向　　　～Google広告とDSPの基礎～　　
 　■講
 師：　　株式会社インサイトホールディングス代表取
 締役社長 
 　 紺野 俊介 氏
 講座２ 個人情報保護法
 とクッキーの最前線 　■講師：　　セガサミーホール
 ディングス株式会社法務知的財産本部　
 　　プライ
 バシーオフィサー　弁護士・経営倫理士　
 　中村 恵
 美子 氏
        株式会社BICPDATA　代表取締役
 　 渡
 邉 桂子 氏
 ■こんな人におススメ■☞デジタルマーケ
 ティングの苦手意識を払拭したい方。☞ＡＩ普及の前
 に改めて基本を見直したい方。☞デジタルシフトのツ
 ボを押さえておきたい方。（テーマによって社内で受
 講者を変更可能です）
 ※デジタルシフトとは、企業
 と消費者が時間や場所にとらわず、双方向にコミュニ
 ケーションを取れる環境をデジタル技術によって構築
 することです。
DTSTART:20241003T040000Z
DTEND:20241003T061000Z
DTSTAMP:20211010T173638Z
ORGANIZER;CN=公益社団法人日本マーケティング協会:MAILTO:aut
 o@jma-jp.org
END:VEVENT
END:VCALENDAR