BEGIN:VCALENDAR
VERSION:2.0
PRODID:Events Booking
BEGIN:VEVENT
UID:69e8a98b0666a
SUMMARY:【北海道リアル開催】デジタルマーケティング実
 践講座＜全３回＞
DESCRIPTION:『マーケティングの現在地を知ることで「届く
 、響く、売れる」を実践する』第1回（10月30日）売上の
 秘密、解き明かします第2回（11月11日）ＳＮＳの本質と
 効果、解き明かします第3回（11月18日）売れるための秘
 策、解き明かします
LOCATION:日本、〒060-0005 北海道札幌市中央区北５条西５丁
 目７ ｓａｐｐｏｒｏ５５ 3階
DTSTART:20251030T043000Z
DTEND:20251118T073000Z
DTSTAMP:20260422T195715Z
ORGANIZER;CN=公益社団法人日本マーケティング協会:MAILTO:aut
 o@jma-jp.org
GEO:43.067339;141.34835
X-APPLE-STRUCTURED-LOCATION;VALUE=URI;X-ADDRESS=日本、〒060-0005 北海
 道札幌市中央区北５条西５丁目７ ｓａｐｐｏｒｏ５５ 
 3階;X-APPLE-RADIUS=72;X-TITLE=小樽商科大学札幌サテライト　
 中講義室:43.067339;141.34835
END:VEVENT
END:VCALENDAR