BEGIN:VCALENDAR
VERSION:2.0
PRODID:Events Booking
BEGIN:VEVENT
UID:69e88fdae4891
SUMMARY:【オンライン開催】＜月イチデジタル60分＞2022 　
 ４回全受講
DESCRIPTION:第1回　10月21日：「SNSはもうメインのマーケテ
 ィングツール！～今更聞けないソーシャルメディアマ
 ーケティングの基本と応用～」第2回　11月18日：「イン
 スタはもはや、企業に必須マーケティングと思え！」
 第3回　12月2日：「いちばん記憶されるのは聴覚だと知
 ってました？音声マーケティングきてますよ」第4回　1
 月13日：「若年層は未来の顧客。今つかまえないで、い
 つつかまえる？」
DTSTART:20221021T043000Z
DTEND:20230113T053000Z
DTSTAMP:20260422T180738Z
ORGANIZER;CN=公益社団法人日本マーケティング協会:MAILTO:aut
 o@jma-jp.org
END:VEVENT
END:VCALENDAR