BEGIN:VCALENDAR
VERSION:2.0
PRODID:Events Booking
BEGIN:VEVENT
UID:69e8a5bb8c014
SUMMARY:【オンライン開催】＜月イチデジタル60分＞2022③
DESCRIPTION:第3回　12月2日
 「いちばん記憶されるのは聴
 覚だと知ってました？音声マーケティングきてますよ
 」
 今日、Amazon MusicやSpotifyなど音声サービスの利用者
 が増加し音声広告の市場規模も拡大しています。それ
 に伴い企業によるマーケティングの場としても注目を
 集めています。音声広告の優位ポイントや施策の考え
 方から実際の成功事例まで幅広く紹介します。
DTSTART:20221202T043000Z
DTEND:20221202T053000Z
DTSTAMP:20260422T194059Z
ORGANIZER;CN=公益社団法人日本マーケティング協会:MAILTO:aut
 o@jma-jp.org
END:VEVENT
END:VCALENDAR