BEGIN:VCALENDAR
VERSION:2.0
PRODID:Events Booking
BEGIN:VEVENT
UID:69e5ea6f9c9bb
SUMMARY:≪延期いたします≫「デジタル・マーケティング
 」の基礎コース2020
DESCRIPTION:新型コロナウイルスの影響を鑑み、開催を延期
 いたします。
  
  
  
 【デジタル・マーケティン
 グの勘所を「しっかり」とおさえたい方々にお勧めで
 す！】
 企業のマーケティングの担当者がデジタル化
 を進めていくうえで、知っておくべき最低限の共通概
 念、言語、戦略的枠組みなどを、短期間で効率的に習
 得させることを目的としています。
DTSTART:20200423T010000Z
DTEND:20200501T080000Z
DTSTAMP:20260420T175719Z
ORGANIZER;CN=公益社団法人日本マーケティング協会:MAILTO:aut
 o@jma-jp.org
END:VEVENT
END:VCALENDAR