BEGIN:VCALENDAR
VERSION:2.0
PRODID:Events Booking
BEGIN:VEVENT
UID:69e5e663260a8
SUMMARY:＜月イチデジタル60分(全４回)＞、始まる！④
DESCRIPTION:第4回12月：「ＳＮＳのコンプライアンス、あな
 たは大丈夫？」
DTSTART:20211208T043000Z
DTEND:20211208T053000Z
DTSTAMP:20260420T174003Z
ORGANIZER;CN=公益社団法人日本マーケティング協会:MAILTO:aut
 o@jma-jp.org
END:VEVENT
END:VCALENDAR