BEGIN:VCALENDAR
VERSION:2.0
PRODID:Events Booking
BEGIN:VEVENT
UID:69e5ea6f9dc46
SUMMARY:【オンライン】＜月イチデジタル60分(全４回)＞、
 始まる！③
DESCRIPTION:第３回11月：「デジタルマーケティングの企画
 を生み出すヒント50連発」
DTSTART:20211110T042500Z
DTEND:20211110T053000Z
DTSTAMP:20260420T175719Z
ORGANIZER;CN=公益社団法人日本マーケティング協会:MAILTO:aut
 o@jma-jp.org
END:VEVENT
END:VCALENDAR