BEGIN:VCALENDAR
VERSION:2.0
PRODID:Events Booking
BEGIN:VEVENT
UID:69e8905d4c5d3
SUMMARY:【オンライン開催】D2C（ネット通販）『A/Ｂテス
 ト結果大公開セミナー』【『D2Cの会』フォーラム2022】
 プレセミナー　加藤公一レオ氏講演◆無料◆
DESCRIPTION:売上を“100%確実”に上げたいD2C（ネット通販
 ）会社の経営者の方へ。
  
 広告・マーケティング業
 界のオリンピック「アドテック」で3年連続人気スピー
 カー1位の売れるネット広告社「加藤公一レオ」が、こ
 れまで10年以上に渡り“数百億円以上”の広告費をかけ
 て“1300回以上”の【A/Bテスト】を実施し10社以上で効
 果が良く“最強の売れるノウハウ®”となった「効果が
 良いクリエイティブ」を大公開していきます！！！【
 問合せ先】092－713-2578（九州支部）
  
  
 加藤公一
 レオ　株式会社 売れるネット広告社　代表取締役社長 
 CEO
  
  『D2Cの会』フォーラム2022】プレセミナー　
 
  
  【『D2Cの会』フォーラム2022】
 https://cp.d2cforum.jp/d
 /d2cforum_mm_202207
 
  9月28日（水）セルリアンタワー東
 急ホテル　開催
 ●登壇者（スピーカー）は全員「D2C
 企業の大物経営者」●スポンサーセッションはゼロ●D2
 C業界の経営者・マーケター300名が集結する強固な『ネ
 ットワーク』作り
 
DTSTART:20220819T060000Z
DTEND:20220819T080000Z
DTSTAMP:20220116T180111Z
ORGANIZER;CN=公益社団法人日本マーケティング協会:MAILTO:aut
 o@jma-jp.org
END:VEVENT
END:VCALENDAR