BEGIN:VCALENDAR
VERSION:2.0
PRODID:Events Booking
BEGIN:VEVENT
UID:69e8a56a6f68e
SUMMARY:【オンラインセミナー】変わる消費者行動と意識
 　米メディアCNNが考えるブランディング戦略【参加無
 料】
DESCRIPTION:グローバリゼーションと、コネクティビティ（
 つながり）の向上により、消費者の行動とメディアの
 消費に大きな変化が見られるようになりました。ユー
 ザーはブランドコンテンツをどのように消費するのか
 、またブランドはこのトレンドに対しどう振る舞うべ
 きか。本オンラインセミナーでは、海外メディアのCNN
 より、デジタルとオーディエンス＆データのスペシャ
 リストが登壇し、コロナ禍で大きく変わる消費者行動
 と意識、企業が理解すべきファクトと、新たなトレン
 ドに対するブランドのプロモーション戦略のヒントを
 お話しします。
DTSTART:20200721T050000Z
DTEND:20200721T060000Z
DTSTAMP:20260422T193938Z
ORGANIZER;CN=公益社団法人日本マーケティング協会:MAILTO:aut
 o@jma-jp.org
END:VEVENT
END:VCALENDAR