BEGIN:VCALENDAR
VERSION:2.0
PRODID:Events Booking
BEGIN:VEVENT
UID:69e5e08c86950
SUMMARY:China Internet Day
DESCRIPTION:中国市場の攻略法や事業戦略に関する知見の共
 有と企業の皆様との意見交換の場となる『China Internet Da
 y』を、テンセント インターナショナル ビジネス グル
 ープ（以下、テンセントIBG）を迎え、4月19日（木）に
 六本木アカデミーヒルズにて開催いたします。
LOCATION:東京都港区六本木６−１０−１ 六本木ヒルズ森
 タワー49階
DTSTART:20180419T003000Z
DTEND:20180419T033000Z
DTSTAMP:20260420T171508Z
ORGANIZER;CN=公益社団法人日本マーケティング協会:MAILTO:aut
 o@jma-jp.org
GEO:35.660486;139.728847
X-APPLE-STRUCTURED-LOCATION;VALUE=URI;X-ADDRESS=東京都港区六本木６
 −１０−１ 六本木ヒルズ森タワー49階;X-APPLE-RADIUS=72;X-TI
 TLE=六本木ヒルズ森タワー49階:35.660486;139.728847
END:VEVENT
END:VCALENDAR