BEGIN:VCALENDAR
VERSION:2.0
PRODID:Events Booking
BEGIN:VEVENT
UID:69e5eac084c2b
SUMMARY:【オンラインセミナー】ブランドが育つプラット
 フォームとして企業はTwitterとどう向き合うか
DESCRIPTION:ビジネスとしてもツイッターのアカウントを持
 って発信している企業は多いですが横で拝見していて
 十分有効に使いこなして「ツイッター圏（広くはSNS圏
 ）で愛される住人になっている」いるケースは多くは
 ありません。
 今回はツイッターを一番よく知る男、
 笹本さんにブランドが育つプラットフォームとして企
 業はどうTwitterと向き合うか、また、Twitter Japanは企業の
 ブランド育成にどうお手伝いができるかをお話しいた
 だきます。
  
 《講師》
 笹本 裕氏　　　Twitter Japan 
 代表取締役
 片平 秀貴         　　 丸の内ブランド
 フォーラム
DTSTART:20201015T080000Z
DTEND:20201015T100000Z
DTSTAMP:20260420T175840Z
ORGANIZER;CN=公益社団法人日本マーケティング協会:MAILTO:aut
 o@jma-jp.org
END:VEVENT
END:VCALENDAR