BEGIN:VCALENDAR
VERSION:2.0
PRODID:Events Booking
BEGIN:VEVENT
UID:69e5e9c9b6886
SUMMARY:【オンライン】《4/16→9/14に延期になりました》MA
 RKETING BEGINNER'S SEMINAR 2020
DESCRIPTION: 
  
  
  
  
 【全てのビジネスパーソン
 に、「マーケティング」の発想を】
 本セミナーは、
 マーケティングの基本的な考え方、マーケティング的
 発想など、マーケティングの基本概念を速習的に学ぶ
 ことが可能な講座となっております。マーケティング
 の基本概念はマーケティング部門だけでなく、営業、
 宣伝、広報・・・など、どの部門にも必要不可欠です
 。業種、部門、年齢にこだわらず、皆様のご参加をお
 待ちしております。
DTSTART:20200914T050000Z
DTEND:20200914T073000Z
DTSTAMP:20260420T175433Z
ORGANIZER;CN=公益社団法人日本マーケティング協会:MAILTO:aut
 o@jma-jp.org
END:VEVENT
END:VCALENDAR