BEGIN:VCALENDAR
VERSION:2.0
PRODID:Events Booking
BEGIN:VEVENT
UID:69e5e7a99665a
SUMMARY:【オンライン開催】2022年度 マーケティング・ベ
 ーシックコース 秋期 金曜
DESCRIPTION: 
  
  
  
  
 【マーケティングの基礎概
 念を「しっかり」と学びたい方々にお勧めです！】
 
 新しくマーケティング部門に配属された方、あるいは
 マーケティング的思考能力を習得し、業務に活かした
 い方などを対象としたプログラムです。
DTSTART:20221014T013000Z
DTEND:20221208T083000Z
DTSTAMP:20210921T225853Z
ORGANIZER;CN=公益社団法人日本マーケティング協会:MAILTO:aut
 o@jma-jp.org
END:VEVENT
END:VCALENDAR