BEGIN:VCALENDAR
VERSION:2.0
PRODID:Events Booking
BEGIN:VEVENT
UID:69e8a552520ab
SUMMARY:＜7/2に延期になりました。＞2020年度 マーケティ
 ング・ベーシックコース 夏期 木曜
DESCRIPTION: 
  
  
  
  
 5月28日開講　から　7月2日開
 講　へ延期いたします。
 【マーケティングの基礎概
 念を「しっかり」と学びたい方々にお勧めです！】
 
 新しくマーケティング部門に配属された方、あるいは
 マーケティング的思考能力を習得し、業務に活かした
 い方などを対象としたプログラムです。
DTSTART:20200702T013000Z
DTSTAMP:20260422T193914Z
ORGANIZER;CN=公益社団法人日本マーケティング協会:MAILTO:aut
 o@jma-jp.org
END:VEVENT
END:VCALENDAR