BEGIN:VCALENDAR
VERSION:2.0
PRODID:Events Booking
BEGIN:VEVENT
UID:69e5d7f462388
SUMMARY:【フルオンラインで開催】2020年度 マーケティン
 グ・ベーシックコース 秋期 金曜
DESCRIPTION: 
  
  
  
  
 【マーケティングの基礎概
 念を「しっかり」と学びたい方々にお勧めです！】
 
 新しくマーケティング部門に配属された方、あるいは
 マーケティング的思考能力を習得し、業務に活かした
 い方などを対象としたプログラムです。
DTSTART:20201016T013000Z
DTEND:20201204T083000Z
DTSTAMP:20260420T163828Z
ORGANIZER;CN=公益社団法人日本マーケティング協会:MAILTO:aut
 o@jma-jp.org
END:VEVENT
END:VCALENDAR