BEGIN:VCALENDAR
VERSION:2.0
PRODID:Events Booking
BEGIN:VEVENT
UID:69e8a968c7c37
SUMMARY:【オンライン開催】 AIプロンプトセミナー(第2回
 ）
DESCRIPTION:第2回　11月18日（火）：「電通マーケッターが
 教える！明日から使えるワザ大公開！目から鱗の A I プ
 ロンプト・中級編ハンズオンセミナー」
DTSTART:20251118T070000Z
DTEND:20251118T081000Z
DTSTAMP:20260422T195640Z
ORGANIZER;CN=公益社団法人日本マーケティング協会:MAILTO:aut
 o@jma-jp.org
END:VEVENT
END:VCALENDAR