BEGIN:VCALENDAR
VERSION:2.0
PRODID:Events Booking
BEGIN:VEVENT
UID:69eb2efc3d173
SUMMARY:【食品・日用品のマーケティング手法決定版！】
 『業界別マーケティングの地図』著者・池田紀行氏ご
 登壇
DESCRIPTION:本セミナーでは、『業界別マーケティングの地
 図』著者・池田紀行氏が最寄り品と呼ばれる食品・日
 用品の購買行動を促すマーケティング戦略を解説しま
 す。さらに、機能訴求と信頼構築に強みをもつAskDoctors
 総研の津田宗利氏が、第三者推奨の活用法についてお
 話しします。
DTSTART:20251028T050000Z
DTEND:20251028T060000Z
DTSTAMP:20211224T004553Z
ORGANIZER;CN=公益社団法人日本マーケティング協会:MAILTO:aut
 o@jma-jp.org
END:VEVENT
END:VCALENDAR