BEGIN:VCALENDAR
VERSION:2.0
PRODID:Events Booking
BEGIN:VEVENT
UID:69e8a94fcf6b7
SUMMARY:【会員無料 ハイブリッド開催】『ブランドの森202
 5』セミナー　自由回答データと生成AIがブランドの「
 いま」と「これから」をあぶり出す
DESCRIPTION:当セミナーでは、2024年9月に行われた「ブラン
 ドの森 2025」の調査結果を元に、人々の頭の中にあるブ
 ランドのいまの情報から、今後日本のブランド群がど
 う推移していくのかをお話します。
LOCATION:日本、〒106-0032 東京都港区六本木３丁目５−２７
  六本木山田ビル ９F
DTSTART:20250128T063000Z
DTEND:20250128T080000Z
DTSTAMP:20211010T173638Z
ORGANIZER;CN=公益社団法人日本マーケティング協会:MAILTO:aut
 o@jma-jp.org
GEO:35.664342;139.735447
X-APPLE-STRUCTURED-LOCATION;VALUE=URI;X-ADDRESS=日本、〒106-0032 東京
 都港区六本木３丁目５−２７ 六本木山田ビル ９F;X-APPLE
 -RADIUS=72;X-TITLE=東京本部:35.664342;139.735447
END:VEVENT
END:VCALENDAR