BEGIN:VCALENDAR
VERSION:2.0
PRODID:Events Booking
BEGIN:VEVENT
UID:69e8ab6722847
SUMMARY:【参加費無料・ハイブリッド】ジャーナリスト堀
 潤氏と考える「企業が挑む 社会問題解決型ビジネスの
 収益モデル」
DESCRIPTION:“社会問題”がこれまでにないほどビジネスさ
 らにはマーケティングで重要になっているいま、私た
 ちはどのように「仕事」に取り込むのか。
 それを紐
 解くため、取材やNPOの情報発信支援を通じてさまざま
 な企業と共に社会問題と向き合うジャーナリスト堀潤
 氏がご来場、Cキューブ・コンサルティング西原立社長
 を迎えて「社会問題解決が実現できない理由」そして
 「ビジネスパーソン、そしてマーケターに期待される
 新たな挑戦」について議論します。
 当セミナーは25年
 2月に開講する「社会問題解決型ビジネス創出スキルア
 ップコース」のプロモーションを含みます。全員参加
 費無料です。
  
DTSTART:20241205T060000Z
DTEND:20241205T073000Z
DTSTAMP:20260422T200511Z
ORGANIZER;CN=公益社団法人日本マーケティング協会:MAILTO:aut
 o@jma-jp.org
END:VEVENT
END:VCALENDAR