BEGIN:VCALENDAR
VERSION:2.0
PRODID:Events Booking
BEGIN:VEVENT
UID:69ea137b0be70
SUMMARY:【ハイブリッド開催】フィリップ・コトラー教授 
 最新刊(8月13日発売)『Reimagining Operational Excellence: Inspirati
 ons from Asia』 共著者来日セミナー 
DESCRIPTION:本セミナーでは同書の共著者であるJacky Mussry（
 ジャッキー・マセリー）氏を日本マーケティング協会
 にお迎えし、最新刊のポイントについてご講演いただ
 きます。
 昨年6月に出版された「Entrepreneurial Marketing（
 起業家的マーケティング）」の第2弾に位置づけられる
 最新刊では、マーケティングの様々な側面を掘り下げ
 、卓越したオペレーションの達成に向けてアジアを中
 心とした世界のビジネス・エコシステムが分析されて
 います。
 世界最新のマーケティング理論を知り、グ
 ローバル市場でビジネスを成功に導くための貴重な機
 会になります。
 セミナーではJacky Mussry氏が登壇する
 他、日本人の講演者としてトランスコスモス株式会社
 の福島常浩 顧問が登壇する予定です。
 ※本セミナー
 は日本語の同時通訳があります。
LOCATION:日本、〒106-0032 東京都港区六本木３丁目５−２７
  六本木山田ビル ９F
DTSTART:20240809T050000Z
DTEND:20240809T070000Z
DTSTAMP:20211010T173638Z
ORGANIZER;CN=公益社団法人日本マーケティング協会:MAILTO:aut
 o@jma-jp.org
GEO:35.664342;139.735447
X-APPLE-STRUCTURED-LOCATION;VALUE=URI;X-ADDRESS=日本、〒106-0032 東京
 都港区六本木３丁目５−２７ 六本木山田ビル ９F;X-APPLE
 -RADIUS=72;X-TITLE=東京本部:35.664342;139.735447
END:VEVENT
END:VCALENDAR