BEGIN:VCALENDAR
VERSION:2.0
PRODID:Events Booking
BEGIN:VEVENT
UID:69e5e37e9e270
SUMMARY:【無料セミナー】『マーケターのためのデータ活
 用術』 ―西内啓の考える『データ活用のツボ』―
DESCRIPTION:本講演ではベストセラー『統計学が最強の学問
 である』の著者である西内啓氏が、マーケター視点で
 価値を生み出すために「データをどう使って」「その
 結果をどう活かすか」という点についてお伝えします
 。
 ■こんな人におススメ：ビッグデータ活用、DX推進
 に関心のある全てのマーケターの方が対象です。統計
 学・データサイエンスのスキル、マーケティングの実
 務経験の有無は、問いません。初学者からベテランま
 で、それぞれのお立場で、西内氏の『データ活用のツ
 ボ』が学べる内容です。
 定員：1\,000人
DTSTART:20221014T073000Z
DTEND:20221014T083000Z
DTSTAMP:20211010T173638Z
ORGANIZER;CN=公益社団法人日本マーケティング協会:MAILTO:aut
 o@jma-jp.org
END:VEVENT
END:VCALENDAR