BEGIN:VCALENDAR
VERSION:2.0
PRODID:Events Booking
BEGIN:VEVENT
UID:69e88fdae76a5
SUMMARY:【オンライン開催】「社会問題が解決されないと
 いう社会問題と、わたしたちマーケターは、どう向き
 合っていくのか」（参加費無料）
DESCRIPTION:参加費無料！ジャーナリスト堀潤氏X電通戒田
 信賢氏のスペシャル対談！
 「企業は社会問題にどう
 向き合っていくのか」。それを紐解くため、取材やNPO
 の情報発信支援、さまざまな企業と共に社会問題に向
 き合うジャーナリスト・堀潤氏（元NHKアナウンサー）
 と、社会問題解決型ビジネスデザインのプロジェクト
 に数多く関わる電通・戒田信賢氏が「社会問題解決が
 実現できない理由」そして「ビジネスパーソン、マー
 ケターに期待される新たな挑戦」について議論します
 。参加費無料につき皆さまお気軽にお誘いあわせの上
 お申込みください。
  
 このイベントは９月８日開講
 の研修「マーケティングを拡張する：社会問題解決型
 ビジネストランスフォーメーション（BX）セミナー」（
 全８回・有料研修）に先駆けて行う特別企画です。今
 回のプレセミナーにご参加いただいた方は、参加費を30
 \,000円割引致します。
DTSTART:20220712T070000Z
DTEND:20220712T083000Z
DTSTAMP:20211010T173638Z
ORGANIZER;CN=公益社団法人日本マーケティング協会:MAILTO:aut
 o@jma-jp.org
END:VEVENT
END:VCALENDAR