BEGIN:VCALENDAR
VERSION:2.0
PRODID:Events Booking
BEGIN:VEVENT
UID:69e5eac4cbe3d
SUMMARY:【オンライン】《2022未来潮流セミナー》「欲望（
 Desire）視点から読み解く日本の消費潮流」
DESCRIPTION:新型コロナの影響が続いた2021年を経て、日本
 の消費環境は今後、どのような道を歩むのでしょうか
 。株式会社電通は、消費者インサイトを欲望（Desire）
 視点から読み解くプロジェクト、DENTSU DESIRE DESIGNを立ち
 上げました。今回の講演では、昨今の消費者の間で起
 こる様々な消費トレンドを調査データやケーススタデ
 ィなどを踏まえて、背景にある消費者インサイトから
 読み解いていきます。
DTSTART:20220125T043000Z
DTEND:20220125T060000Z
DTSTAMP:20260420T175844Z
ORGANIZER;CN=公益社団法人日本マーケティング協会:MAILTO:aut
 o@jma-jp.org
END:VEVENT
END:VCALENDAR