BEGIN:VCALENDAR
VERSION:2.0
PRODID:Events Booking
BEGIN:VEVENT
UID:69e5ea1e26ca8
SUMMARY:参加者20名限定『タレントマシーン　ワークショ
 ップ』⋆都合により中止になりました。
DESCRIPTION:マーケティング含む全てのビジネス課題は『表
 層面の現象』にすぎず、その本質はその奥深くに内在
 する人材上の課題、特に管理職・リーダーの課題に帰
 結すると言っても言い過ぎではありません。ゆえに、
 本来的な『高業績や競争優位の源泉』とは、自事業・
 組織のあらゆる部門・階層に優れたリーダー（部長・
 課長・係長など）を育成・配置することです。
 しか
 し、そのような多くの優れたリーダータレントが自然
 発生的に育つのを待っていても、おそらくその時は永
 遠に来ないと思われます。
 本セミナーでは、将来の
 成功へと導くリーダーをより多く・早く・持続的に輩
 出・育成する（自組織という器をリーダータレントの
 製造装置とする）ための仕組み・その方程式『タレン
 トマシーン・フォーミュラ』を演習を通じて体得いた
 します。自組織・自社の現状と照らし合わせながら、
 考察・議論する時間も設けています。
DTSTART:20211207T050000Z
DTEND:20211207T073000Z
DTSTAMP:20211007T173231Z
ORGANIZER;CN=公益社団法人日本マーケティング協会:MAILTO:aut
 o@jma-jp.org
END:VEVENT
END:VCALENDAR