BEGIN:VCALENDAR
VERSION:2.0
PRODID:Events Booking
BEGIN:VEVENT
UID:69e5ea1760062
SUMMARY:このマーケティング、北海道が教材です！ 「魅力
 ある未来　～そうだ、北海道がある～」
DESCRIPTION:これからの「憧れられる北海道」づくりが日本
 をより豊かにすることを前提として、「地方が生き延
 びるための地方創生」ではなく、「こうありたい地方
 になるための地方創生」を考えていきます。北海道の
 『魅力ある未来』を提案し、みなさんのアイデアと起
 業意欲を喚起します。
 2045年の北海道を視野にいれ、2
 030年の冬季オリパラ開催、新幹線札幌延伸をスタート
 ラインとして、今から取り組むべきことを提案します
 。
DTSTART:20211124T043000Z
DTEND:20211124T060000Z
DTSTAMP:20211011T233530Z
ORGANIZER;CN=公益社団法人日本マーケティング協会:MAILTO:aut
 o@jma-jp.org
END:VEVENT
END:VCALENDAR