BEGIN:VCALENDAR
VERSION:2.0
PRODID:Events Booking
BEGIN:VEVENT
UID:69e8abb464f2e
SUMMARY:【リアル開催】ところで、マーケティングって、
 なに？
DESCRIPTION:「マーケティング」という言葉はさまざまな場
 面で使われていますが、
 人によって捉え方が異なる
 と、チーム内企業内での認識や判断にズレが生じ、混
 乱を生むこともあります。
 当セミナーでは、マーケ
 ティングに携わる人に向けて、全体像や本質、勘所（
 かんどころ）をわかりやすく解説し、さらに実践ワー
 クを通じて、自分の言葉で語る基本を学んでいただき
 ます。
  
 講師は、電通、マイクロソフト、スクエア
 ・エニックスなど多様な業界で活躍し、業界最大手の
 調査会社・ニールセン社で日本代表も務めたマーケタ
 ーです。事業会社・支援会社側の両方の知見から、「
 対話マーケティング」の時代において、必ず知ってお
 いてほしい重要な視点を厳選しレクチャーします。セ
 ミナーの後半では、参加者同士の実践ワークを通じて
 顧客理解からアイデアを導き出し共有・言語化・アウ
 トプットするプロセスを体験していただきます。
  
 
  
LOCATION:日本、〒106-0032 東京都港区六本木３丁目５−２７
  六本木山田ビル ９F
DTSTART:20251104T050000Z
DTEND:20251104T080000Z
DTSTAMP:20211118T204002Z
ORGANIZER;CN=公益社団法人日本マーケティング協会:MAILTO:aut
 o@jma-jp.org
GEO:35.664342;139.735447
X-APPLE-STRUCTURED-LOCATION;VALUE=URI;X-ADDRESS=日本、〒106-0032 東京
 都港区六本木３丁目５−２７ 六本木山田ビル ９F;X-APPLE
 -RADIUS=72;X-TITLE=東京本部:35.664342;139.735447
END:VEVENT
END:VCALENDAR