BEGIN:VCALENDAR
VERSION:2.0
PRODID:Events Booking
BEGIN:VEVENT
UID:69eb2cb805337
SUMMARY:【オンライン開催】サステナブル・ブランディン
 グ講座 『 Summer School 』
DESCRIPTION:現代のサステナビリティ時代において、企業は
 「現代社会の要請や期待」に的確に対応し、持続的な
 成長・中長期の企業価値向上に結び付けていく経営が
 求められています。そして、企業評価にあたっては、
 「非財務情報（ＥＳＧ）」が新しいモノサシとして脚
 光を浴びています。
 本講座では、「CSR／CSV／ESG／SDGs
 」を本質的・体系的にわかりやすく解説した上で、 “
 今この時代に選ばれ、次の時代にも輝き続ける企業”
 であるための戦略メソッド「サステナブル・ブランデ
 ィング」の考え方やその実践手法を学ぶことができる
 内容になっています。
 サステナビリティやブランデ
 ィングの分野において著名で人気の高い細田先生から
 直接学べる貴重な機会となっています。 是非とも皆様
 のご参加をお待ちしております！
DTSTART:20220825T010000Z
DTEND:20220825T080000Z
DTSTAMP:20211028T230303Z
ORGANIZER;CN=公益社団法人日本マーケティング協会:MAILTO:aut
 o@jma-jp.org
END:VEVENT
END:VCALENDAR