BEGIN:VCALENDAR
VERSION:2.0
PRODID:Events Booking
BEGIN:VEVENT
UID:69e88f5ec30e0
SUMMARY:【会員無料】『第13回　日本マーケティング大賞
 　報告セミナー<オンライン>』
DESCRIPTION:~コロナ禍の荒波を乗り越えるマーケティング~&
 lt\;オンラインセミナー&gt\;
 コーディネーター：日本
 マーケティング大賞　選考副委員長　
 ボストンコン
 サルティンググループ　
 マネージング・ディレクタ
 ー＆シニアパートナー　杉田　浩章　氏
  
  2020年度
 の優れたマーケティング活動を表彰する第13回日本マー
 ケティング大賞が6月8日に選出されました。
 今回は、
 グランプリ・準グランプリ・奨励賞の受賞企業のご担
 当者にご登壇いただき、総合的に優れたマーケティン
 グ活動や、社会課題をマーケティング発想でより良い
 社会へ向けての施策を実行したプロジェクトについて
 ご報告いただきます。
 このケーススタディは、マー
 ケティング関係者の皆様に大変参考になると考えてお
 ります。
DTSTART:20210913T060000Z
DTEND:20210913T083000Z
DTSTAMP:20210922T043515Z
ORGANIZER;CN=公益社団法人日本マーケティング協会:MAILTO:aut
 o@jma-jp.org
END:VEVENT
END:VCALENDAR