BEGIN:VCALENDAR
VERSION:2.0
PRODID:Events Booking
BEGIN:VEVENT
UID:69e5d51121f50
SUMMARY:『 コロナ禍にも負けない日本最強コンテンツ  マ
 ンガ 』JMA マンガデザイナーズラボ 共催【オンライン
 セミナー】招待制＜無料＞
DESCRIPTION: 
  
  
  
  
 “ニューノーマル”という
 言葉で簡単に言い尽くせられないコロナ禍における生
 活様式。 　通勤・通学という言葉が当たり前ではなく
 なった日常生活は、デジタル化を促進させ、 仕事の形
 も変化させた。     その状況にSDGsを始めサスティナ
 ブルな実現可能な近未来志向が加わってきているのが
 、 まさに2020年以降の社会。    「未来社会は撮れない
 ！だから描くしかない！」その中で日本のオリジナル
 文化と言われる “マンガ”そこから派生した『マンガ
 デザイン』の可能性が高まっている。  このセミナーに
 おいて、そのサスティナブルな日本らしい世界観につ
 いて説明いたします。
DTSTART:20201027T070000Z
DTEND:20201027T084500Z
DTSTAMP:20260420T162609Z
ORGANIZER;CN=公益社団法人日本マーケティング協会:MAILTO:aut
 o@jma-jp.org
END:VEVENT
END:VCALENDAR