BEGIN:VCALENDAR
VERSION:2.0
PRODID:Events Booking
BEGIN:VEVENT
UID:69e5e6142a3b1
SUMMARY:只今視聴可能『第12回 日本マーケティング大賞』
 オンライン報告会アーカイブ公開（12月24日まで）
DESCRIPTION:「受賞プロジェクトから読み解く　人を動かし
 、感動を与えるマーケティング」
 　　　　　　～社
 会課題・教育課題のマーケティング的解決策～
 コー
 ディネーター：日本マーケティング大賞　選考副委員
 長　　ボストンコンサルティンググループ　日本共同
 代表　杉田　浩章　氏
  
  2019年度の優れたマーケテ
 ィング活動を表彰する第12回日本マーケティング大賞が
 6月19日に選出されました。
 今回は、グランプリ・準
 グランプリ・奨励賞の受賞企業のご担当者にご登壇い
 ただきました。
 周到な準備の中、日本中を巻き込ん
 だ総合的に優れたマーケティング活動や、社会課題を
 マーケティング発想でより良い社会へ向けての施策を
 実行したプロジェクトについてのケーススタディは、
 マーケティング関係者の皆様には、参考になると考え
 ております。
 アーカイブ配信をZoomのウェビナーでオ
 ンライン配信いたします。
 ご視聴は無料となってお
 りますので、是非ご覧いただければ幸いでございます
 。
 ※アーカイブ配信ZoomのURLは下記の通リです。
 http
 s://www.jma2-jp.org/award/twelve
 こちらの最後尾に動画がアッ
 プされております。
DTSTART:20201218T150000Z
DTEND:20201223T150000Z
DTSTAMP:20260420T173844Z
ORGANIZER;CN=公益社団法人日本マーケティング協会:MAILTO:aut
 o@jma-jp.org
END:VEVENT
END:VCALENDAR