BEGIN:VCALENDAR
VERSION:2.0
PRODID:Events Booking
BEGIN:VEVENT
UID:69e5ea4de1edf
SUMMARY:JMAインサイトスクール 第7回『インサイトフルな
 （インサイト発見能力に優れた）人材育成・組織開発
 の方法とは？』 　～マーケティングやインサイトに注
 力しているコカ・コーラ社の取り組みを通じて考えま
 す～【オンラインセミナー】◆招待制(無料)◆
DESCRIPTION:経済産業省の「第4次産業革命クリエイティブ
 研究会」においても、これからのデザイン（広義のユ
 ーザー価値創造）人材には「インサイト（人の持つ潜
 在的な課題や気持ち）を発見する能力」が求められて
 いるが、その能力が備わっている人材が十分ではない
 ことが報告されました。
 「インサイトを発見する能
 力」が、新たなユーザー価値を創造する上で重要にな
 っている背景には、次のような環境変化が上げられて
 います。
 ・高度に均質化した商品・サービスにより
 物質的な欲求は概ね満たされている・社会構造も複雑
 化している中で、ユーザーの欲求が多様化・深層化し
 てきている
 このような要請がある一方、「インサイ
 トを発見する能力」を組織的に底上げする方法は、多
 くの企業で確立されていません。今回のインサイトス
 クールでは、この難題に正面から向き合います。
  
 
 大松　孝弘氏(デコム )にコーディネートいただき小林 
 康二氏　日本コカ・コーラ株式会社　経営戦略本部 ナ
 レッジ アンド インサイツ バイス・プレジデントをゲ
 ストに　JMAで【オンラインセミナー】◆ご招待制(無料)
 ◆を 開催いたします。
DTSTART:20200915T013000Z
DTEND:20200915T030000Z
DTSTAMP:20260420T175645Z
ORGANIZER;CN=公益社団法人日本マーケティング協会:MAILTO:aut
 o@jma-jp.org
END:VEVENT
END:VCALENDAR