BEGIN:VCALENDAR
VERSION:2.0
PRODID:Events Booking
BEGIN:VEVENT
UID:69e8a56eb9641
SUMMARY:『ニューノーマル？加速するマーケティングの進
 化は！ 〜 今こそ ”CX/DXで境界を溶かそう“ 〜』【オ
 ンラインセミナー】ミライ・マーケティング研究会 ◆
 ご招待制（無料）◆
DESCRIPTION: 
  
  
  
  
 Withコロナ時代の“幸せな社
 会”について世代を超えて対話する『ニューノーマル
 ？加速するマーケティングの進化は！〜 今こそ ”CX/DX
 で境界を溶かそう“ 〜』
 コロナ禍を切っ掛けとして
 加速していきそうな人の価値観の変化、それに適合し
 マーケティングはどの様に進化をしていくべきなのか
 。Z世代と企業のマーケティング担当者が集い「コロナ
 後の社会をより良い場所にするために必要なこと」に
 ついて対話します。外出自粛期間中に実施した大学生
 の生活調査から「Z世代に見え始めている未来洞察」を
 報告。CX/DXの専門家からマーケティングの未来ビジョ
 ンに関して示唆を得られます。　
 万障お繰り合わせ
 の上、オンラインセミナーへ　ご参加、ご派遣を頂き
 たくご案内申し上げます。
DTSTART:20200720T060000Z
DTEND:20200720T083000Z
DTSTAMP:20260422T193942Z
ORGANIZER;CN=公益社団法人日本マーケティング協会:MAILTO:aut
 o@jma-jp.org
END:VEVENT
END:VCALENDAR